BEGIN:VCALENDAR
VERSION:2.0
PRODID:-//Sewards End Parish Website - ECPv6.15.17.1//NONSGML v1.0//EN
CALSCALE:GREGORIAN
METHOD:PUBLISH
X-WR-CALNAME:Sewards End Parish Website
X-ORIGINAL-URL:https://sewardsend.org.uk
X-WR-CALDESC:Events for Sewards End Parish Website
REFRESH-INTERVAL;VALUE=DURATION:PT1H
X-Robots-Tag:noindex
X-PUBLISHED-TTL:PT1H
BEGIN:VTIMEZONE
TZID:UTC
BEGIN:STANDARD
TZOFFSETFROM:+0000
TZOFFSETTO:+0000
TZNAME:UTC
DTSTART:20240101T000000
END:STANDARD
END:VTIMEZONE
BEGIN:VEVENT
DTSTART;TZID=UTC:20251007T193000
DTEND;TZID=UTC:20251007T213000
DTSTAMP:20260425T125323
CREATED:20250412T152658Z
LAST-MODIFIED:20250412T152658Z
UID:1048-1759865400-1759872600@sewardsend.org.uk
SUMMARY:Parish Council Meeting
DESCRIPTION:
URL:https://sewardsend.org.uk/event/parish-council-meeting-12/
LOCATION:St James Church
END:VEVENT
BEGIN:VEVENT
DTSTART;TZID=UTC:20251017T170000
DTEND;TZID=UTC:20251017T200000
DTSTAMP:20260425T125323
CREATED:20250413T150208Z
LAST-MODIFIED:20250413T150208Z
UID:1320-1760720400-1760731200@sewardsend.org.uk
SUMMARY:Bonnefirebox
DESCRIPTION:
URL:https://sewardsend.org.uk/event/bonnefirebox-7/
LOCATION:Sewards End Village Hall
END:VEVENT
BEGIN:VEVENT
DTSTART;TZID=UTC:20251017T170000
DTEND;TZID=UTC:20251017T220000
DTSTAMP:20260425T125323
CREATED:20250413T145244Z
LAST-MODIFIED:20250413T145244Z
UID:1297-1760720400-1760738400@sewardsend.org.uk
SUMMARY:Pub Night
DESCRIPTION:
URL:https://sewardsend.org.uk/event/pub-night-7/
END:VEVENT
BEGIN:VEVENT
DTSTART;TZID=UTC:20251024T190000
DTEND;TZID=UTC:20251024T220000
DTSTAMP:20260425T125323
CREATED:20250413T150849Z
LAST-MODIFIED:20250413T150849Z
UID:1332-1761332400-1761343200@sewardsend.org.uk
SUMMARY:Macmillan Quiz Night
DESCRIPTION:
URL:https://sewardsend.org.uk/event/macmillan-quiz-night-2/
LOCATION:Sewards End Village Hall
END:VEVENT
BEGIN:VEVENT
DTSTART;TZID=UTC:20251102T123000
DTEND;TZID=UTC:20251102T143000
DTSTAMP:20260425T125323
CREATED:20250412T164533Z
LAST-MODIFIED:20250412T164533Z
UID:1233-1762086600-1762093800@sewardsend.org.uk
SUMMARY:Village drinks
DESCRIPTION:
URL:https://sewardsend.org.uk/event/village-drinks-7/
LOCATION:Sewards End Village Hall
END:VEVENT
BEGIN:VEVENT
DTSTART;TZID=UTC:20251104T193000
DTEND;TZID=UTC:20251104T213000
DTSTAMP:20260425T125323
CREATED:20250412T152449Z
LAST-MODIFIED:20250412T152946Z
UID:1044-1762284600-1762291800@sewardsend.org.uk
SUMMARY:Parish Council Meeting
DESCRIPTION:
URL:https://sewardsend.org.uk/event/parish-council-meeting-11/
LOCATION:St James Church
END:VEVENT
BEGIN:VEVENT
DTSTART;TZID=UTC:20251107T100000
DTEND;TZID=UTC:20251107T120000
DTSTAMP:20260425T125323
CREATED:20250412T161725Z
LAST-MODIFIED:20250412T161725Z
UID:1170-1762509600-1762516800@sewardsend.org.uk
SUMMARY:Coffee Morning
DESCRIPTION:
URL:https://sewardsend.org.uk/event/coffee-morning-10/
LOCATION:Sewards End Village Hall
ORGANIZER;CN="St James Church":MAILTO:sewardsendyouthclub@gmail.com
END:VEVENT
BEGIN:VEVENT
DTSTART;TZID=UTC:20251121T170000
DTEND;TZID=UTC:20251121T200000
DTSTAMP:20260425T125323
CREATED:20250413T150232Z
LAST-MODIFIED:20250413T150232Z
UID:1322-1763744400-1763755200@sewardsend.org.uk
SUMMARY:Bonnefirebox
DESCRIPTION:
URL:https://sewardsend.org.uk/event/bonnefirebox-8/
LOCATION:Sewards End Village Hall
END:VEVENT
BEGIN:VEVENT
DTSTART;TZID=UTC:20251121T170000
DTEND;TZID=UTC:20251121T220000
DTSTAMP:20260425T125323
CREATED:20250413T145444Z
LAST-MODIFIED:20250413T145444Z
UID:1299-1763744400-1763762400@sewardsend.org.uk
SUMMARY:Pub Night
DESCRIPTION:
URL:https://sewardsend.org.uk/event/pub-night-8/
END:VEVENT
BEGIN:VEVENT
DTSTART;TZID=UTC:20251202T193000
DTEND;TZID=UTC:20251202T213000
DTSTAMP:20260425T125323
CREATED:20250412T153041Z
LAST-MODIFIED:20250412T153041Z
UID:1060-1764703800-1764711000@sewardsend.org.uk
SUMMARY:Parish Council Meeting
DESCRIPTION:
URL:https://sewardsend.org.uk/event/parish-council-meeting-13/
LOCATION:St James Church
END:VEVENT
BEGIN:VEVENT
DTSTART;TZID=UTC:20251205T100000
DTEND;TZID=UTC:20251205T120000
DTSTAMP:20260425T125323
CREATED:20250412T161749Z
LAST-MODIFIED:20250412T161749Z
UID:1172-1764928800-1764936000@sewardsend.org.uk
SUMMARY:Coffee Morning
DESCRIPTION:
URL:https://sewardsend.org.uk/event/coffee-morning-11/
LOCATION:Sewards End Village Hall
ORGANIZER;CN="St James Church":MAILTO:sewardsendyouthclub@gmail.com
END:VEVENT
BEGIN:VEVENT
DTSTART;TZID=UTC:20251207T123000
DTEND;TZID=UTC:20251207T143000
DTSTAMP:20260425T125323
CREATED:20250412T164605Z
LAST-MODIFIED:20250412T164605Z
UID:1235-1765110600-1765117800@sewardsend.org.uk
SUMMARY:Village drinks
DESCRIPTION:
URL:https://sewardsend.org.uk/event/village-drinks-8/
LOCATION:Sewards End Village Hall
END:VEVENT
BEGIN:VEVENT
DTSTART;TZID=UTC:20251219T170000
DTEND;TZID=UTC:20251219T200000
DTSTAMP:20260425T125323
CREATED:20250413T150257Z
LAST-MODIFIED:20250413T150257Z
UID:1324-1766163600-1766174400@sewardsend.org.uk
SUMMARY:Bonnefirebox
DESCRIPTION:
URL:https://sewardsend.org.uk/event/bonnefirebox-9/
LOCATION:Sewards End Village Hall
END:VEVENT
BEGIN:VEVENT
DTSTART;TZID=UTC:20251219T170000
DTEND;TZID=UTC:20251219T220000
DTSTAMP:20260425T125323
CREATED:20250413T145514Z
LAST-MODIFIED:20250413T145514Z
UID:1301-1766163600-1766181600@sewardsend.org.uk
SUMMARY:Pub Night
DESCRIPTION:
URL:https://sewardsend.org.uk/event/pub-night-9/
END:VEVENT
BEGIN:VEVENT
DTSTART;TZID=UTC:20260426T100000
DTEND;TZID=UTC:20260426T160000
DTSTAMP:20260425T125323
CREATED:20260408T104633Z
LAST-MODIFIED:20260408T104633Z
UID:1544-1777197600-1777219200@sewardsend.org.uk
SUMMARY:Noakes Grove Open Day
DESCRIPTION:https://walden-countryside.co.uk/newsletter.html
URL:https://sewardsend.org.uk/event/noakes-grove-open-day/
END:VEVENT
BEGIN:VEVENT
DTSTART;TZID=UTC:20260505T193000
DTEND;TZID=UTC:20260505T213000
DTSTAMP:20260425T125323
CREATED:20260408T104348Z
LAST-MODIFIED:20260408T104459Z
UID:1542-1778009400-1778016600@sewardsend.org.uk
SUMMARY:Annual Parish Council Meeting followed by Annual Parish Council Meeting
DESCRIPTION:
URL:https://sewardsend.org.uk/event/annual-parish-council-meeting-followed-by-annual-parish-council-meeting/
LOCATION:St James Church
END:VEVENT
BEGIN:VEVENT
DTSTART;TZID=UTC:20260602T193000
DTEND;TZID=UTC:20260602T210000
DTSTAMP:20260425T125323
CREATED:20260408T104816Z
LAST-MODIFIED:20260408T104816Z
UID:1546-1780428600-1780434000@sewardsend.org.uk
SUMMARY:Parish Council Meeting
DESCRIPTION:
URL:https://sewardsend.org.uk/event/parish-council-meeting-14/
LOCATION:St James Church
END:VEVENT
BEGIN:VEVENT
DTSTART;TZID=UTC:20260707T193000
DTEND;TZID=UTC:20260707T213000
DTSTAMP:20260425T125323
CREATED:20260408T104909Z
LAST-MODIFIED:20260408T104909Z
UID:1548-1783452600-1783459800@sewardsend.org.uk
SUMMARY:Parish Council Meeting
DESCRIPTION:
URL:https://sewardsend.org.uk/event/parish-council-meeting-15/
LOCATION:St James Church
END:VEVENT
BEGIN:VEVENT
DTSTART;TZID=UTC:20260901T193000
DTEND;TZID=UTC:20260901T213000
DTSTAMP:20260425T125323
CREATED:20260408T105040Z
LAST-MODIFIED:20260408T105040Z
UID:1550-1788291000-1788298200@sewardsend.org.uk
SUMMARY:Parish Council Meeting
DESCRIPTION:
URL:https://sewardsend.org.uk/event/parish-council-meeting-16/
LOCATION:St James Church
END:VEVENT
BEGIN:VEVENT
DTSTART;TZID=UTC:20261006T193000
DTEND;TZID=UTC:20261006T210000
DTSTAMP:20260425T125323
CREATED:20260408T105124Z
LAST-MODIFIED:20260408T105124Z
UID:1552-1791315000-1791320400@sewardsend.org.uk
SUMMARY:Parish Council Meeting
DESCRIPTION:
URL:https://sewardsend.org.uk/event/parish-council-meeting-17/
LOCATION:St James Church
END:VEVENT
BEGIN:VEVENT
DTSTART;TZID=UTC:20261103T193000
DTEND;TZID=UTC:20261103T213000
DTSTAMP:20260425T125323
CREATED:20260408T105230Z
LAST-MODIFIED:20260408T105230Z
UID:1554-1793734200-1793741400@sewardsend.org.uk
SUMMARY:Parish Council Meeting
DESCRIPTION:
URL:https://sewardsend.org.uk/event/parish-council-meeting-18/
LOCATION:St James Church
END:VEVENT
BEGIN:VEVENT
DTSTART;TZID=UTC:20261201T193000
DTEND;TZID=UTC:20261201T210000
DTSTAMP:20260425T125323
CREATED:20260408T105314Z
LAST-MODIFIED:20260408T105314Z
UID:1556-1796153400-1796158800@sewardsend.org.uk
SUMMARY:Parish Council Meeting
DESCRIPTION:
URL:https://sewardsend.org.uk/event/parish-council-meeting-19/
LOCATION:St James Church
END:VEVENT
END:VCALENDAR